Package: SimBu Version: 1.10.0 Maintainer: Alexander Dietrich MaintainerEmail: alex.dietrich at tum.de git_url: https://git.bioconductor.org/packages/SimBu git_branch: RELEASE_3_21 git_last_commit: f3e5681 git_last_commit_date: 2025-04-15 12:54:44 -0400 (Tue, 15 Apr 2025)