Package: SigsPack Version: 1.20.0 Command: /Library/Frameworks/R.framework/Resources/bin/R CMD build --keep-empty-dirs --no-resave-data SigsPack StartedAt: 2025-01-03 07:57:41 -0500 (Fri, 03 Jan 2025) EndedAt: 2025-01-03 08:00:05 -0500 (Fri, 03 Jan 2025) EllapsedTime: 143.8 seconds RetCode: 0 Status: OK PackageFile: SigsPack_1.20.0.tar.gz PackageFileSize: 520.8 KiB