Package: SiPSiC Version: 1.10.0 Command: /home/biocbuild/bbs-3.22-bioc/R/bin/R CMD INSTALL SiPSiC StartedAt: 2025-11-02 15:29:30 -0500 (Sun, 02 Nov 2025) EndedAt: 2025-11-02 15:30:03 -0500 (Sun, 02 Nov 2025) EllapsedTime: 33.8 seconds RetCode: 0 Status: OK