Package: SiPSiC Version: 1.10.0 Command: /home/biocbuild/bbs-3.22-bioc/R/bin/R CMD build --keep-empty-dirs --no-resave-data --md5 SiPSiC StartedAt: 2025-11-02 20:24:04 -0500 (Sun, 02 Nov 2025) EndedAt: 2025-11-02 20:24:36 -0500 (Sun, 02 Nov 2025) EllapsedTime: 32.0 seconds RetCode: 0 Status: OK PackageFile: SiPSiC_1.10.0.tar.gz PackageFileSize: 237.6 KiB