Package: Seqinfo Version: 1.0.0 Command: /home/biocbuild/bbs-3.22-bioc/R/bin/R CMD INSTALL Seqinfo StartedAt: 2025-11-20 16:04:47 -0500 (Thu, 20 Nov 2025) EndedAt: 2025-11-20 16:04:57 -0500 (Thu, 20 Nov 2025) EllapsedTime: 10.1 seconds RetCode: 0 Status: OK