Package: SeqGSEA Version: 1.46.0 Command: /Library/Frameworks/R.framework/Resources/bin/R CMD build --keep-empty-dirs --no-resave-data SeqGSEA StartedAt: 2025-01-02 22:10:14 -0500 (Thu, 02 Jan 2025) EndedAt: 2025-01-02 22:15:39 -0500 (Thu, 02 Jan 2025) EllapsedTime: 325.3 seconds RetCode: 0 Status: OK PackageFile: SeqGSEA_1.46.0.tar.gz PackageFileSize: 1.578 MiB