Package: SeqGSEA Version: 1.48.0 Command: rm -rf SeqGSEA.buildbin-libdir && mkdir SeqGSEA.buildbin-libdir && /Users/biocbuild/BBS/utils/build-universal.sh SeqGSEA_1.48.0.tar.gz /Library/Frameworks/R.framework/Resources/bin/R SeqGSEA.buildbin-libdir StartedAt: 2025-04-21 22:52:13 -0400 (Mon, 21 Apr 2025) EndedAt: 2025-04-21 22:52:29 -0400 (Mon, 21 Apr 2025) EllapsedTime: 15.3 seconds RetCode: 0 Status: OK PackageFile: SeqGSEA_1.48.0.tgz PackageFileSize: 2.091 MiB