Package: SeqGSEA Version: 1.46.0 Command: /Library/Frameworks/R.framework/Resources/bin/R CMD build --keep-empty-dirs --no-resave-data SeqGSEA StartedAt: 2025-01-03 07:47:07 -0500 (Fri, 03 Jan 2025) EndedAt: 2025-01-03 07:49:46 -0500 (Fri, 03 Jan 2025) EllapsedTime: 158.7 seconds RetCode: 0 Status: OK PackageFile: SeqGSEA_1.46.0.tar.gz PackageFileSize: 1.601 MiB