Package: SeqArray Version: 1.48.3 Command: /home/biocbuild/bbs-3.21-bioc/R/bin/R CMD INSTALL SeqArray StartedAt: 2025-10-01 15:19:18 -0400 (Wed, 01 Oct 2025) EndedAt: 2025-10-01 15:19:59 -0400 (Wed, 01 Oct 2025) EllapsedTime: 40.6 seconds RetCode: 0 Status: OK