Package: SeqArray Version: 1.48.3 Command: /home/biocbuild/bbs-3.21-bioc/R/bin/R CMD build --keep-empty-dirs --no-resave-data SeqArray StartedAt: 2025-10-01 19:56:25 -0400 (Wed, 01 Oct 2025) EndedAt: 2025-10-01 19:58:33 -0400 (Wed, 01 Oct 2025) EllapsedTime: 127.1 seconds RetCode: 0 Status: OK PackageFile: SeqArray_1.48.3.tar.gz PackageFileSize: 3.66 MiB