Package: SanityR Version: 1.0.0 Command: /home/biocbuild/bbs-3.22-bioc/R/bin/R CMD INSTALL SanityR StartedAt: 2025-11-05 15:28:02 -0500 (Wed, 05 Nov 2025) EndedAt: 2025-11-05 15:28:33 -0500 (Wed, 05 Nov 2025) EllapsedTime: 31.8 seconds RetCode: 0 Status: OK