Package: SanityR Version: 1.0.0 Command: /home/biocbuild/bbs-3.22-bioc/R/bin/R CMD build --keep-empty-dirs --no-resave-data --md5 SanityR StartedAt: 2025-11-05 19:55:59 -0500 (Wed, 05 Nov 2025) EndedAt: 2025-11-05 19:57:30 -0500 (Wed, 05 Nov 2025) EllapsedTime: 91.1 seconds RetCode: 0 Status: OK PackageFile: SanityR_1.0.0.tar.gz PackageFileSize: 672.1 KiB