Package: SVP Version: 1.2.1 Command: /home/biocbuild/bbs-3.22-bioc/R/bin/R CMD INSTALL SVP StartedAt: 2025-11-05 15:28:17 -0500 (Wed, 05 Nov 2025) EndedAt: 2025-11-05 15:31:08 -0500 (Wed, 05 Nov 2025) EllapsedTime: 170.3 seconds RetCode: 0 Status: OK