Package: SVP Version: 1.2.1 Command: /home/biocbuild/bbs-3.22-bioc/R/bin/R CMD build --keep-empty-dirs --no-resave-data --md5 SVP StartedAt: 2025-11-05 20:34:10 -0500 (Wed, 05 Nov 2025) EndedAt: 2025-11-05 20:38:38 -0500 (Wed, 05 Nov 2025) EllapsedTime: 267.5 seconds RetCode: 0 Status: OK PackageFile: SVP_1.2.1.tar.gz PackageFileSize: 4.233 MiB