Package: SUITOR Version: 1.10.0 Maintainer: Bill Wheeler MaintainerEmail: wheelerb at imsweb.com git_url: https://git.bioconductor.org/packages/SUITOR git_branch: RELEASE_3_21 git_last_commit: 283c6e2 git_last_commit_date: 2025-04-15 12:51:57 -0400 (Tue, 15 Apr 2025)