Package: STATegRa Version: 1.44.0 Command: chmod a+r STATegRa -R && E:\biocbuild\bbs-3.21-bioc\R\bin\R.exe CMD build --keep-empty-dirs --no-resave-data STATegRa StartedAt: 2025-08-14 22:33:39 -0400 (Thu, 14 Aug 2025) EndedAt: 2025-08-14 22:36:30 -0400 (Thu, 14 Aug 2025) EllapsedTime: 171.1 seconds RetCode: 0 Status: OK PackageFile: STATegRa_1.44.0.tar.gz PackageFileSize: 4.156 MiB