Package: STATegRa Version: 1.44.0 Command: /Library/Frameworks/R.framework/Resources/bin/R CMD INSTALL STATegRa StartedAt: 2025-04-21 15:12:51 -0400 (Mon, 21 Apr 2025) EndedAt: 2025-04-21 15:13:19 -0400 (Mon, 21 Apr 2025) EllapsedTime: 28.2 seconds RetCode: 0 Status: OK