Package: STATegRa Version: 1.44.0 Command: /Library/Frameworks/R.framework/Resources/bin/R CMD check --install=check:STATegRa.install-out.txt --library=/Library/Frameworks/R.framework/Resources/library --no-vignettes --timings STATegRa_1.44.0.tar.gz StartedAt: 2025-04-21 21:57:55 -0400 (Mon, 21 Apr 2025) EndedAt: 2025-04-21 21:59:12 -0400 (Mon, 21 Apr 2025) EllapsedTime: 76.9 seconds RetCode: 0 Status: OK CheckDir: STATegRa.Rcheck Warnings: 0