Package: STATegRa Version: 1.44.0 Command: rm -rf STATegRa.buildbin-libdir && mkdir STATegRa.buildbin-libdir && /Users/biocbuild/BBS/utils/build-universal.sh STATegRa_1.44.0.tar.gz /Library/Frameworks/R.framework/Resources/bin/R STATegRa.buildbin-libdir StartedAt: 2025-04-21 22:54:14 -0400 (Mon, 21 Apr 2025) EndedAt: 2025-04-21 22:54:20 -0400 (Mon, 21 Apr 2025) EllapsedTime: 6.1 seconds RetCode: 0 Status: OK PackageFile: STATegRa_1.44.0.tgz PackageFileSize: 4.881 MiB