Package: STADyUM Version: 1.0.0 Command: /home/biocbuild/bbs-3.22-bioc/R/bin/R CMD INSTALL STADyUM StartedAt: 2025-11-09 15:33:47 -0500 (Sun, 09 Nov 2025) EndedAt: 2025-11-09 15:34:32 -0500 (Sun, 09 Nov 2025) EllapsedTime: 45.6 seconds RetCode: 0 Status: OK