Package: STADyUM Version: 1.0.0 Command: /home/biocbuild/bbs-3.22-bioc/R/bin/R CMD build --keep-empty-dirs --no-resave-data --md5 STADyUM StartedAt: 2025-11-10 20:31:14 -0500 (Mon, 10 Nov 2025) EndedAt: 2025-11-10 20:33:09 -0500 (Mon, 10 Nov 2025) EllapsedTime: 115.1 seconds RetCode: 0 Status: OK PackageFile: STADyUM_1.0.0.tar.gz PackageFileSize: 2.79 MiB