Package: SQLDataFrame Version: 1.22.0 Command: /home/biocbuild/bbs-3.21-bioc/R/bin/R CMD INSTALL SQLDataFrame StartedAt: 2025-07-13 15:15:55 -0400 (Sun, 13 Jul 2025) EndedAt: 2025-07-13 15:16:12 -0400 (Sun, 13 Jul 2025) EllapsedTime: 17.1 seconds RetCode: 0 Status: OK