Package: SQLDataFrame Version: 1.22.0 Command: /home/biocbuild/bbs-3.21-bioc/R/bin/R CMD build --keep-empty-dirs --no-resave-data SQLDataFrame StartedAt: 2025-07-13 19:25:32 -0400 (Sun, 13 Jul 2025) EndedAt: 2025-07-13 19:26:00 -0400 (Sun, 13 Jul 2025) EllapsedTime: 28.0 seconds RetCode: 0 Status: OK PackageFile: SQLDataFrame_1.22.0.tar.gz PackageFileSize: 235 KiB