Package: SQLDataFrame Version: 1.22.0 Command: /Library/Frameworks/R.framework/Resources/bin/R CMD check --install=check:SQLDataFrame.install-out.txt --library=/Library/Frameworks/R.framework/Resources/library --no-vignettes --timings SQLDataFrame_1.22.0.tar.gz StartedAt: 2025-04-21 23:52:04 -0400 (Mon, 21 Apr 2025) EndedAt: 2025-04-21 23:54:47 -0400 (Mon, 21 Apr 2025) EllapsedTime: 163.3 seconds RetCode: 0 Status: WARNINGS CheckDir: SQLDataFrame.Rcheck Warnings: 2