Package: SQLDataFrame Version: 1.22.0 Command: /Library/Frameworks/R.framework/Resources/bin/R CMD build --keep-empty-dirs --no-resave-data SQLDataFrame StartedAt: 2025-04-21 18:36:31 -0400 (Mon, 21 Apr 2025) EndedAt: 2025-04-21 18:37:03 -0400 (Mon, 21 Apr 2025) EllapsedTime: 31.8 seconds RetCode: 0 Status: OK PackageFile: SQLDataFrame_1.22.0.tar.gz PackageFileSize: 234.9 KiB