Package: SQLDataFrame Version: 1.22.0 Command: rm -rf SQLDataFrame.buildbin-libdir && mkdir SQLDataFrame.buildbin-libdir && /Users/biocbuild/BBS/utils/build-universal.sh SQLDataFrame_1.22.0.tar.gz /Library/Frameworks/R.framework/Resources/bin/R SQLDataFrame.buildbin-libdir StartedAt: 2025-04-22 01:11:33 -0400 (Tue, 22 Apr 2025) EndedAt: 2025-04-22 01:12:00 -0400 (Tue, 22 Apr 2025) EllapsedTime: 26.5 seconds RetCode: 0 Status: OK PackageFile: SQLDataFrame_1.22.0.tgz PackageFileSize: 574.9 KiB