Package: SPsimSeq Version: 1.18.0 Command: /home/biocbuild/R/R/bin/R CMD INSTALL SPsimSeq StartedAt: 2025-07-22 03:20:48 -0000 (Tue, 22 Jul 2025) EndedAt: 2025-07-22 03:21:37 -0000 (Tue, 22 Jul 2025) EllapsedTime: 48.5 seconds RetCode: 0 Status: OK