Package: SPOTlight Version: 1.10.0 Command: /home/biocbuild/R/R/bin/R CMD check --install=check:SPOTlight.install-out.txt --library=/home/biocbuild/R/R/site-library --no-vignettes --timings SPOTlight_1.10.0.tar.gz StartedAt: 2025-01-31 10:43:49 -0000 (Fri, 31 Jan 2025) EndedAt: 2025-01-31 10:49:29 -0000 (Fri, 31 Jan 2025) EllapsedTime: 339.4 seconds RetCode: 0 Status: OK CheckDir: SPOTlight.Rcheck Warnings: 0