Package: SPOTlight Version: 1.12.0 Command: /Library/Frameworks/R.framework/Resources/bin/R CMD build --keep-empty-dirs --no-resave-data SPOTlight StartedAt: 2025-05-08 22:42:47 -0400 (Thu, 08 May 2025) EndedAt: 2025-05-08 22:47:54 -0400 (Thu, 08 May 2025) EllapsedTime: 306.7 seconds RetCode: 0 Status: OK PackageFile: SPOTlight_1.12.0.tar.gz PackageFileSize: 4.466 MiB