Package: SPOTlight Version: 1.12.0 Command: /Library/Frameworks/R.framework/Resources/bin/R CMD INSTALL SPOTlight StartedAt: 2025-05-12 16:10:25 -0400 (Mon, 12 May 2025) EndedAt: 2025-05-12 16:10:56 -0400 (Mon, 12 May 2025) EllapsedTime: 31.1 seconds RetCode: 0 Status: OK