Package: SPONGE Version: 1.30.0 Command: chmod a+r SPONGE -R && E:\biocbuild\bbs-3.21-bioc\R\bin\R.exe CMD build --keep-empty-dirs --no-resave-data SPONGE StartedAt: 2025-08-14 22:29:24 -0400 (Thu, 14 Aug 2025) EndedAt: 2025-08-14 22:33:08 -0400 (Thu, 14 Aug 2025) EllapsedTime: 223.9 seconds RetCode: 0 Status: OK PackageFile: SPONGE_1.30.0.tar.gz PackageFileSize: 8.664 MiB