Package: SPONGE Version: 1.30.0 Command: /Library/Frameworks/R.framework/Resources/bin/R CMD build --keep-empty-dirs --no-resave-data SPONGE StartedAt: 2025-04-21 18:35:58 -0400 (Mon, 21 Apr 2025) EndedAt: 2025-04-21 18:39:28 -0400 (Mon, 21 Apr 2025) EllapsedTime: 210.2 seconds RetCode: 0 Status: OK PackageFile: SPONGE_1.30.0.tar.gz PackageFileSize: 8.973 MiB