Package: SPONGE Version: 1.30.0 Command: rm -rf SPONGE.buildbin-libdir && mkdir SPONGE.buildbin-libdir && /Users/biocbuild/BBS/utils/build-universal.sh SPONGE_1.30.0.tar.gz /Library/Frameworks/R.framework/Resources/bin/R SPONGE.buildbin-libdir StartedAt: 2025-04-22 01:11:28 -0400 (Tue, 22 Apr 2025) EndedAt: 2025-04-22 01:13:00 -0400 (Tue, 22 Apr 2025) EllapsedTime: 91.3 seconds RetCode: 0 Status: OK PackageFile: SPONGE_1.30.0.tgz PackageFileSize: 8.728 MiB