Package: SPONGE Version: 1.30.0 Maintainer: Markus List MaintainerEmail: markus.list at tum.de git_url: https://git.bioconductor.org/packages/SPONGE git_branch: RELEASE_3_21 git_last_commit: 2b36767 git_last_commit_date: 2025-04-15 11:13:42 -0400 (Tue, 15 Apr 2025)