Package: SPICEY Version: 1.0.0 Command: /home/biocbuild/bbs-3.22-bioc/R/bin/R CMD INSTALL SPICEY StartedAt: 2025-11-05 15:49:01 -0500 (Wed, 05 Nov 2025) EndedAt: 2025-11-05 15:49:13 -0500 (Wed, 05 Nov 2025) EllapsedTime: 11.6 seconds RetCode: 0 Status: OK