Package: SPICEY Version: 1.0.0 Command: /Library/Frameworks/R.framework/Resources/bin/R CMD build --keep-empty-dirs --no-resave-data SPICEY StartedAt: 2025-11-06 17:51:25 -0500 (Thu, 06 Nov 2025) EndedAt: 2025-11-06 17:51:45 -0500 (Thu, 06 Nov 2025) EllapsedTime: 19.2 seconds RetCode: 0 Status: OK PackageFile: SPICEY_1.0.0.tar.gz PackageFileSize: 1003 KiB