Package: SPICEY Version: 1.0.0 Command: rm -rf SPICEY.buildbin-libdir && mkdir SPICEY.buildbin-libdir && /Users/biocbuild/BBS/utils/build-universal.sh SPICEY_1.0.0.tar.gz /Library/Frameworks/R.framework/Resources/bin/R SPICEY.buildbin-libdir StartedAt: 2025-11-06 23:23:09 -0500 (Thu, 06 Nov 2025) EndedAt: 2025-11-06 23:23:14 -0500 (Thu, 06 Nov 2025) EllapsedTime: 5.1 seconds RetCode: 0 Status: OK PackageFile: SPICEY_1.0.0.tgz PackageFileSize: 1.035 MiB