Package: SPICEY Version: 1.0.0 Command: /Library/Frameworks/R.framework/Resources/bin/R CMD build --keep-empty-dirs --no-resave-data SPICEY StartedAt: 2025-11-21 11:10:53 -0500 (Fri, 21 Nov 2025) EndedAt: 2025-11-21 11:12:07 -0500 (Fri, 21 Nov 2025) EllapsedTime: 74.1 seconds RetCode: 0 Status: OK PackageFile: SPICEY_1.0.0.tar.gz PackageFileSize: 1005 KiB