Package: SPIA Version: 2.58.0 Command: F:\biocbuild\bbs-3.20-bioc\R\bin\R.exe CMD INSTALL SPIA StartedAt: 2025-01-30 15:44:33 -0500 (Thu, 30 Jan 2025) EndedAt: 2025-01-30 15:44:44 -0500 (Thu, 30 Jan 2025) EllapsedTime: 11.3 seconds RetCode: 0 Status: OK