Package: SPIA Version: 2.58.0 Command: chmod a+r SPIA -R && F:\biocbuild\bbs-3.20-bioc\R\bin\R.exe CMD build --keep-empty-dirs --no-resave-data SPIA StartedAt: 2025-01-30 22:03:48 -0500 (Thu, 30 Jan 2025) EndedAt: 2025-01-30 22:10:54 -0500 (Thu, 30 Jan 2025) EllapsedTime: 426.1 seconds RetCode: 0 Status: OK PackageFile: SPIA_2.58.0.tar.gz PackageFileSize: 2.45 MiB