Package: SPIA Version: 2.58.0 Command: /home/biocbuild/bbs-3.20-bioc/R/bin/R CMD build --keep-empty-dirs --no-resave-data --md5 SPIA StartedAt: 2025-01-30 19:18:21 -0500 (Thu, 30 Jan 2025) EndedAt: 2025-01-30 19:24:23 -0500 (Thu, 30 Jan 2025) EllapsedTime: 362.5 seconds RetCode: 0 Status: OK PackageFile: SPIA_2.58.0.tar.gz PackageFileSize: 2.55 MiB