Package: SPIA Version: 2.60.0 Command: /Library/Frameworks/R.framework/Resources/bin/R CMD INSTALL SPIA StartedAt: 2025-05-01 15:55:59 -0400 (Thu, 01 May 2025) EndedAt: 2025-05-01 15:56:10 -0400 (Thu, 01 May 2025) EllapsedTime: 11.5 seconds RetCode: 0 Status: OK