Package: SPIA Version: 2.60.0 Command: rm -rf SPIA.buildbin-libdir && mkdir SPIA.buildbin-libdir && /Users/biocbuild/BBS/utils/build-universal.sh SPIA_2.60.0.tar.gz /Library/Frameworks/R.framework/Resources/bin/R SPIA.buildbin-libdir StartedAt: 2025-05-02 14:35:21 -0400 (Fri, 02 May 2025) EndedAt: 2025-05-02 14:35:36 -0400 (Fri, 02 May 2025) EllapsedTime: 15.7 seconds RetCode: 0 Status: OK PackageFile: SPIA_2.60.0.tgz PackageFileSize: 2.536 MiB