Package: SPIA Version: 2.60.0 Command: /Library/Frameworks/R.framework/Resources/bin/R CMD INSTALL SPIA StartedAt: 2025-04-21 15:26:02 -0400 (Mon, 21 Apr 2025) EndedAt: 2025-04-21 15:26:11 -0400 (Mon, 21 Apr 2025) EllapsedTime: 8.7 seconds RetCode: 0 Status: OK