Package: SPIA Version: 2.60.0 Command: /home/biocbuild/R/R/bin/R CMD INSTALL SPIA StartedAt: 2025-04-21 20:26:43 -0000 (Mon, 21 Apr 2025) EndedAt: 2025-04-21 20:26:49 -0000 (Mon, 21 Apr 2025) EllapsedTime: 6.1 seconds RetCode: 0 Status: OK