Package: SPIA Version: 2.60.0 Maintainer: Adi Laurentiu Tarca MaintainerEmail: atarca at med.wayne.edu git_url: https://git.bioconductor.org/packages/SPIA git_branch: RELEASE_3_21 git_last_commit: 6378a74 git_last_commit_date: 2025-04-15 09:44:06 -0400 (Tue, 15 Apr 2025)