Package: SPEM Version: 1.48.0 Command: /Library/Frameworks/R.framework/Resources/bin/R CMD INSTALL SPEM StartedAt: 2025-04-21 15:13:32 -0400 (Mon, 21 Apr 2025) EndedAt: 2025-04-21 15:13:45 -0400 (Mon, 21 Apr 2025) EllapsedTime: 12.8 seconds RetCode: 0 Status: OK