Package: SPEM Version: 1.48.0 Command: /home/biocbuild/R/R/bin/R CMD INSTALL SPEM StartedAt: 2025-04-21 20:25:04 -0000 (Mon, 21 Apr 2025) EndedAt: 2025-04-21 20:25:11 -0000 (Mon, 21 Apr 2025) EllapsedTime: 7.1 seconds RetCode: 0 Status: OK