Package: SOMNiBUS Version: 1.14.2 Command: F:\biocbuild\bbs-3.20-bioc\R\bin\R.exe CMD INSTALL SOMNiBUS StartedAt: 2025-01-30 16:20:51 -0500 (Thu, 30 Jan 2025) EndedAt: 2025-01-30 16:21:48 -0500 (Thu, 30 Jan 2025) EllapsedTime: 57.6 seconds RetCode: 0 Status: OK