Package: SOMNiBUS Version: 1.14.2 Command: chmod a+r SOMNiBUS -R && F:\biocbuild\bbs-3.20-bioc\R\bin\R.exe CMD build --keep-empty-dirs --no-resave-data SOMNiBUS StartedAt: 2025-01-30 21:58:56 -0500 (Thu, 30 Jan 2025) EndedAt: 2025-01-30 22:03:38 -0500 (Thu, 30 Jan 2025) EllapsedTime: 281.8 seconds RetCode: 0 Status: OK PackageFile: SOMNiBUS_1.14.2.tar.gz PackageFileSize: 1.001 MiB